BEGIN:VCALENDAR
VERSION:2.0
PRODID:-//eventon.com NONSGML v1.0//EN
CALSCALE:GREGORIAN
METHOD:PUBLISH
BEGIN:VEVENT
UID:69e5e28bb9902
DTSTAMP:20260420T082339Z
DTSTART:20260629T163000Z
DTEND:20260629T215900Z
LOCATION:
SUMMARY:2. Gewerbestammtisch 2026
DESCRIPTION:Am 29. Juni um 18:30 Uhr findet der 2. Gewerbestammtisch statt.
  Die genaue Location geben wir rechtzeitig bekannt. Gemeinsam möchten wir 
 die Veranstaltungen für die zweite Jahreshälfte planen und neue gemeinsam
 e Aktionen anstoßen. Eure Ideen und Vorschläge für unsere Innenstadt sin
 d dabei ausdrücklich willkommen – wir unterstützen sie gern! Für[..]\n
 https://www.gewerbeverein-gotha.de/events/2-gewerbestammtisch-2026/
URL:https://www.gewerbeverein-gotha.de/events/2-gewerbestammtisch-2026/
END:VEVENT
END:VCALENDAR