BEGIN:VCALENDAR
VERSION:2.0
PRODID:-//eventon.com NONSGML v1.0//EN
CALSCALE:GREGORIAN
METHOD:PUBLISH
BEGIN:VEVENT
UID:69e5f5c98b6bd
DTSTAMP:20260420T094545Z
DTSTART:20260612
DTEND:20260613
LOCATION:
SUMMARY:Gothaer Weinfest 2026
DESCRIPTION:Wir laden herzlich zum Gothaer Weinfest ein! Am 12. und 13. Jun
 i verwandeln sich die Innenstadt rund um den Buttermarkt und den Neumarkt i
 n einen Treffpunkt für Weinliebhaber und Genießer. Freuen Sie sich auf ei
 ne vielfältige Auswahl an erlesenen Weinen und feinen Spirituosen\,  präs
 entiert von teilnehmenden Händlern und Gastronomen. Doch[..]\nhttps://www.
 gewerbeverein-gotha.de/events/gothaer-weinfest-2026/
URL:https://www.gewerbeverein-gotha.de/events/gothaer-weinfest-2026/
END:VEVENT
END:VCALENDAR